BEGIN:VCALENDAR
VERSION:2.0
PRODID:-//wp-events-plugin.com//7.2.3.1//EN
TZID:America/Chicago
X-WR-TIMEZONE:America/Chicago
BEGIN:VEVENT
UID:3@andersonville.org
DTSTART;TZID=America/Chicago:20260418T090000
DTEND;TZID=America/Chicago:20260418T120000
DTSTAMP:20260330T162045Z
URL:https://andersonville.org/events/community/earth-day-parks-cleanup-at-
 park-599/
SUMMARY:Earth Day Parks Cleanup at Park 599
DESCRIPTION:In celebration of Earth Day\, Park 599\, located behind Ander
 son Point\, will participate in the citywide day of cleanup on April 18 fr
 om 9AM to 12PM. Volunteers are invited to meet at Park 599\, located at 16
 23 W Edgewater\, to help care for and beautify this shared community space
 .
ATTACH;FMTTYPE=image/jpeg:https://andersonville.org/wp-content/uploads/unn
 amed-4.png
LOCATION:Park 599\, 1623 W Edgewater\, Chicago\, IL\, 60660\, United States
X-APPLE-STRUCTURED-LOCATION;VALUE=URI;X-ADDRESS=1623 W Edgewater\, Chicago\
 , IL\, 60660\, United States;X-APPLE-RADIUS=100;X-TITLE=Park 599:geo:0,0
END:VEVENT
BEGIN:VTIMEZONE
TZID:America/Chicago
X-LIC-LOCATION:America/Chicago
BEGIN:DAYLIGHT
DTSTART:20260308T030000
TZOFFSETFROM:-0600
TZOFFSETTO:-0500
TZNAME:CDT
END:DAYLIGHT
END:VTIMEZONE
END:VCALENDAR