BEGIN:VCALENDAR
VERSION:2.0
PRODID:-//wp-events-plugin.com//7.2.3.1//EN
TZID:America/Chicago
X-WR-TIMEZONE:America/Chicago
BEGIN:VEVENT
UID:4@andersonville.org
DTSTART;TZID=America/Chicago:20260418T110000
DTEND;TZID=America/Chicago:20260418T190000
DTSTAMP:20260331T162323Z
URL:https://andersonville.org/events/community/buffalo-exchange-earth-day-
 1-sale/
SUMMARY:Buffalo Exchange Earth Day $1 Sale
DESCRIPTION:Shop a special selection of $1 clothing\, shoes and accessories
  at Buffalo Exchange’s annual Earth Day $1 Sale on Saturday\, April 18\,
  starting at normal opening hours! 100% of proceeds from this CASH ONLY sa
 le will go to Plastic Pollution Coalition and their goal to create a
  more just\, equitable\, regenerative world free of plastic pollution and 
 its toxic impacts. $1 items go quickly\, so arrive early with cash in hand
 !
ATTACH;FMTTYPE=image/jpeg:https://andersonville.org/wp-content/uploads/0.p
 ng
LOCATION:Buffalo Exchange\, 5252 N Clark St\, Chicago\, IL\, 60640\, United
  States
X-APPLE-STRUCTURED-LOCATION;VALUE=URI;X-ADDRESS=5252 N Clark St\, Chicago\,
  IL\, 60640\, United States;X-APPLE-RADIUS=100;X-TITLE=Buffalo Exchange:ge
 o:0,0
END:VEVENT
BEGIN:VTIMEZONE
TZID:America/Chicago
X-LIC-LOCATION:America/Chicago
BEGIN:DAYLIGHT
DTSTART:20260308T030000
TZOFFSETFROM:-0600
TZOFFSETTO:-0500
TZNAME:CDT
END:DAYLIGHT
END:VTIMEZONE
END:VCALENDAR